BEGIN:VCALENDAR
VERSION:2.0
PRODID:-//REALTORS® Association of South Central Wisconsin - ECPv6.15.13//NONSGML v1.0//EN
CALSCALE:GREGORIAN
METHOD:PUBLISH
X-ORIGINAL-URL:https://www.rascw.org
X-WR-CALDESC:Events for REALTORS® Association of South Central Wisconsin
REFRESH-INTERVAL;VALUE=DURATION:PT1H
X-Robots-Tag:noindex
X-PUBLISHED-TTL:PT1H
BEGIN:VTIMEZONE
TZID:America/Chicago
BEGIN:DAYLIGHT
TZOFFSETFROM:-0600
TZOFFSETTO:-0500
TZNAME:CDT
DTSTART:20180311T080000
END:DAYLIGHT
BEGIN:STANDARD
TZOFFSETFROM:-0500
TZOFFSETTO:-0600
TZNAME:CST
DTSTART:20181104T070000
END:STANDARD
BEGIN:DAYLIGHT
TZOFFSETFROM:-0600
TZOFFSETTO:-0500
TZNAME:CDT
DTSTART:20190310T080000
END:DAYLIGHT
BEGIN:STANDARD
TZOFFSETFROM:-0500
TZOFFSETTO:-0600
TZNAME:CST
DTSTART:20191103T070000
END:STANDARD
BEGIN:DAYLIGHT
TZOFFSETFROM:-0600
TZOFFSETTO:-0500
TZNAME:CDT
DTSTART:20200308T080000
END:DAYLIGHT
BEGIN:STANDARD
TZOFFSETFROM:-0500
TZOFFSETTO:-0600
TZNAME:CST
DTSTART:20201101T070000
END:STANDARD
END:VTIMEZONE
BEGIN:VEVENT
DTSTART;TZID=America/Chicago:20190320T140000
DTEND;TZID=America/Chicago:20190320T160000
DTSTAMP:20260425T135807
CREATED:20190306T214755Z
LAST-MODIFIED:20190306T223949Z
UID:4882-1553090400-1553097600@www.rascw.org
SUMMARY:RASCW Sauk Columbia Chapter Spring Trivia
DESCRIPTION:RASCW Sauk Columbia Chapter Spring Trivia Event \nSpecial Guest Emcee: Maddy jones\, WRPQ Baraboo \nTeams of Four \nFREE Program\, but space is limited so sign up NOW! \nClick here for registration details
URL:https://www.rascw.org/event/rascw-sauk-columbia-chapter-spring-trivia
LOCATION:Con Amici Wine Bar\, 126 3rd Street\, Baraboo\, WI\, 53913\, United States
ORGANIZER;CN="RASCW Sauk Columbia Chapter":MAILTO:jcabaj@guildmortgage.net
END:VEVENT
END:VCALENDAR